BEGIN:VCALENDAR
VERSION:2.0
PRODID:Events Booking
BEGIN:VEVENT
UID:69eb7e348e9ec
SUMMARY:Projektmanagement Einführung 
DESCRIPTION:&nbsp\;
 Ideen und Ziele des Workshops
 Sie erhalten in diese
 m Seminar einen praxisorientierten Einstieg in die wichtigsten Anwendungsm
 ethoden des Projektmanagements. Sie lernen\, wie Sie Projekte richtig star
 ten\, planen und steuern und wie Sie Ihre Projektmitarbeiter und Termine v
 on Anfang an richtig motivieren und koordinieren in Zeit\, Kosten und Leis
 tungsumfang. 
 Sie erhalten gute Kenntnisse\, um komplexe Vorhaben in Ihr
 em Projekt erfolgreich zu bewältigen. Sie lernen praxisorientiert die wes
 entlichen Grundlagen für ein effektives Projektmanagement.&nbsp\;
 Die T
 hemen diese Einführungsseminars
 
 Was ist ein Projekt? 
 Wann ist Pro
 jektmanagement sinnvoll? 
 Was gehört zum Projektmanagement? 
 Der rich
 tige Start mit Checklisten: Worauf müssen Sie achten?
 Welche Ziele soll
 en erreicht werden?
 Meilensteine Projektphasen\, Kostenplan\, Team u.vm.
 
 
 Zielgruppe
 Mitarbeiter*innen\, die in Projekten tätig sein möcht
 en\, Projektassistenz\, Fachschüler*innen\, Studenten*innen\, Existenzgr
 ünder*innen. An diesem Kurs sollten Sie teilnehmen\, wenn Sie sofortige V
 erbesserungen Ihrer täglichen Projektarbeit anstreben und Sie ein praktis
 ches Projekt von der Initiierung bis zum Abschluss begleiten möchten. 
 
 Methodik
 Lehrgespräch\, Gruppenarbeit\, Learning by doing / Beispielpro
 jekte bearbeiten
 Voraussetzung
 Interesse an Projektmanagement\, Teilne
 hmer\, die in Projekte starten wollen.
 Seminarinhalt
 
 Grundlagen\, D
 efinitionen\, Fachbegriffe
 Die Aufgaben des Projektmanagements
 Der Pro
 jektauftrag und die Projektdokumentation
 Klarheit schaffen:&nbsp\;
 
 
 Was sind Projektziele?&nbsp\;
 Was sind Nicht-Ziele?
 
 
 Projektplanu
 ng und -strukturierung
 Die geeignete Projektorganisation schaffen
 Proj
 ektephasen und ihre Aufgaben
 Parallelprozesse im Fokus: Steuerung &amp\;
  Controlling
 Methodenkoffer „Projektmanagement“: Wann ist welches In
 strument sinnvoll?
 Projektrisiken im Blick behalten
 Erfolgskriterien e
 ines Projektes
 Die vielseitigen Anforderungen an den Projektleiter
 
 
 Seminardauer
 3 Tage von&nbsp\; 9:00 bis 17:00 Uhr täglich
 Seminarleit
 ung&nbsp\;
 Renate M. Ebert
 Sofern Sie Rückfragen haben\, schicken Sie
  uns eine E-Mail an info@ebert-projekte-training.de.
 Anmelde-Information
 en
LOCATION:Brunnenstraße 9\, Rüsselsheim am Main\, Deutschland
DTSTART:20231211T080000Z
DTEND:20231213T160000Z
DTSTAMP:20220425T142113Z
ORGANIZER:MAILTO:info@ebert-projekte-training.de
GEO:49.96286;8.384232
X-APPLE-STRUCTURED-LOCATION;VALUE=URI;X-ADDRESS=Brunnenstraße 9\, Rüssels
 heim am Main\, Deutschland;X-APPLE-RADIUS=72;X-TITLE=65428 Rüsselsheim-Ba
 uschheim - Brunnenstr. 9 (Allianz-Haus) :49.96286;8.384232
END:VEVENT
END:VCALENDAR