BEGIN:VCALENDAR
VERSION:2.0
PRODID:Events Booking
BEGIN:VEVENT
UID:69eb66d01d3b6
SUMMARY:Zeitmanagement und Work-Life-Balance (2 Tage)
DESCRIPTION:&nbsp\;
 Zeitmanagement &amp\; Work-Life-BalancePraxisworkshop
 ! - Speziell auf die berufliche Situation im Office abgestimmt
 
 
 Ide
 en und Ziele des Workshops
 Im Workshop \"Zeitmanagement &amp\; Work-Life
 -Balance\" können alle individuellen Themen zum Zeit- und Selbstmanagemen
 t sowie zur Work-Life-Balance angesprochen werden. Es wird speziell auf di
 e Anforderungen\, die Sie an die zu verplanende Zeit im Büro\, in der Ver
 waltung und in der Assistenz haben\, eingegangen. Sie erhalten einen Über
 blick über alle Werkzeuge und Hilfsmittel\, damit Sie sich selbst einen e
 igenen Ablauf in Ihrem Berufs- und Privatleben gestalten können. Die Semi
 narleiterin Frau Renate M. Ebert gibt Ihnen wertvolle Tipps aus der Praxis
 .
 Zielgruppe
 Dieser Workshop richtet sich an alle\, die ihre Termin- u
 nd Zeitkonzepte überprüfen und optimieren möchten\, die ihre Zeit sinnv
 oller und vor allen Dingen stressfreier gestalten wollen. Nur mit einem gu
 ten Zeitkonzept und einer ausgeglichenen Work-Life-Balance sind Sie langfr
 istig und dauerhaft sowohl im Beruf als auch im Privatleben erfolgreich. D
 er Vorteil für Sie als Unternehmer/In liegt darin\, dass Sie nach Abschlu
 ss des Seminars ausgeglichene und engagierte Mitarbeiter haben\, die kreat
 iv\, motiviert und gesund ihrer Arbeit nachgehen. Stresssymptome treten ga
 r nicht erst auf!
 Die Vorteile für Sie als TeilnehmerIn
 
 Sie werden
  trotz wachsendem Arbeitsanfall in Zukunft Ihre Überstunden in einem übe
 rschaubaren Rahmen halten oder sogar vermeiden.
 Sie finden Harmonie zwis
 chen Beruf und Privatleben und lernen die Vorteile eines solchen Ausgleich
 s kennen.
 
 Und was ist das Spezielle an diesem Workshop?
 Nach diesem
  Seminar werden Sie eine optimale\, individuelle Zeiteinteilung für die A
 rbeitsabläufe an Ihrem Arbeitsplatz und in Ihrem Privatleben erarbeitet h
 aben. Sie werden die erlernten Strategien ausprobieren\, Zeitfresser verme
 iden und die Vorgänge mit den vorgestellten Werkzeugen optimieren können
 . Das Privatleben und die Familie kommen nicht mehr zu kurz. Ruhephasen we
 rden möglich: Stresssymptome wie z.B. Hörsturz und Burn-out werden recht
 zeitig verhindert. Nach Beendigung des Kurses dieTeilnehmer ein Zertifikat
 .
 Seminarinhalt
 
 Kennen lernen von Werkzeugen für das Zeitmanagemen
 t (Praxiserprobtes und Klassiker\, sowie eigene Methoden)
 Erprobung dies
 er Methoden
 Anwenden von Werkzeugen und Hilfmitteln
 Eigene Methoden fi
 nden
 Ziele vereinbaren und fixieren
 \"Inneren Schweinehund\" besiegen
 
 Erkennen von Zeitfressern
 Kennen lernen der eigenen Tagesform (Hochs u
 nd Tiefs)
 Gemeinsame Erarbeitung von Strategien
 Optimierung des Tages-
 \, Wochen-\, Jahresablaufes in der Firma allgemein\, im Büro\, mit Kunden
  und im Alltag
 Work-Life-Balance: \"3 Säulen-Modell\" \"4 Ohren-Modell\
 "
 Weniger Stress in der Freizeit und vieles weitere mehr.
 
 Ablauf de
 s Workshops
 1. Tag: Am ersten Tag werden die praxisgerechten und klassis
 chen Zeitmanagement-Werkzeuge vorgestellt und von den Teilnehmern anschlie
 ßend anhand von Fallbeispielen angewendet und optimiert.
 2. Tag : Der z
 weite Tag befasst sich mit der Work-Life-Balance\, dem Leben und Arbeiten 
 im Einklang. Das vorgestellte 3-Säulen-Modell gibt einen ersten Einblick 
 in die Balance zwischen Arbeit\, Leben und zwischen Gesundheit\, Familie u
 nd Freunden. Sie erfahren\, wie Sie Ihre Projekte in die tägliche Arbeit 
 integrieren und wie der Prozessverlauf bei der Umstellung auf ein neues Ze
 itkonzept funktionieren kann.
 Methodik
 
 Lehrgespräch
 Gruppen- und
  Einzelarbeit
 Workshop! - Aktive Mitarbeit notwendig! - Bitte bequeme Kl
 eidung\, Motivation und Neugier mitbringen!
 
 Veranstaltungszeiten
 1.
  Tag: 9:00 bis 16:45 Uhr 2. Tag: 9:00 bis 13:00 Uhr
 Veranstaltungsort
 
 65428 Rüsselsheim-Bauschheim
 Teilnehmerzahl
 
 Damit für alle Teilne
 hmerInnen einen möglichst großen Nutzen aus dem Workshop ziehen\,
 wurd
 e die maximale Zahl der Teilnehmer auf 3 begrenzt.
 
 Anmelde-Informatio
 nen
 
 
LOCATION:Brunnenstraße 9\, Rüsselsheim am Main\, Deutschland
DTSTART:20231220T080000Z
DTEND:20231221T120000Z
DTSTAMP:20220417T074715Z
ORGANIZER:MAILTO:info@ebert-projekte-training.de
GEO:49.96286;8.384232
X-APPLE-STRUCTURED-LOCATION;VALUE=URI;X-ADDRESS=Brunnenstraße 9\, Rüssels
 heim am Main\, Deutschland;X-APPLE-RADIUS=72;X-TITLE=65428 Rüsselsheim-Ba
 uschheim - Brunnenstr. 9 (Allianz-Haus) :49.96286;8.384232
END:VEVENT
END:VCALENDAR